BEGIN:VCALENDAR
VERSION:2.0
PRODID:-//Plone.org//NONSGML plone.app.event//EN
X-WR-TIMEZONE:Europe/Rome
BEGIN:VEVENT
SUMMARY:CGRP ed Emicrania: è iniziata una nuova era?
DTSTART;VALUE=DATE:20180717
DTEND;VALUE=DATE:20180718
DTSTAMP;VALUE=DATE-TIME:20260420T050132Z
UID:f3f967f8ae364f6399960dfdee490d1e@127.0.0.1:8095
ATTENDEE;CN="Pierangelo Geppetti, Direttore del  Centro Cefalee, Azienda O
 spedaliero Universitaria Careggi";ROLE=REQ-PARTICIPANT:Pierangelo Geppetti
 , Direttore del  Centro Cefalee, Azienda Ospedaliero Universitaria Careggi
CATEGORIES:Seminario Scientifico
CONTACT:Antonella Ferretti\, 051 4966207\, antonella.ferretti@ausl.bo.it
CREATED;VALUE=DATE-TIME:20180711T115524Z
DESCRIPTION:L’ISNB dedica alcuni martedì del mese alla discussione dell
 e più recenti evidenze scientifiche nell’ambito delle Neuroscienze
LAST-MODIFIED;VALUE=DATE-TIME:20231024T115818Z
LOCATION:Ospedale Bellaria\, via Altura 1/8 - Bologna Padiglione G – 1°
  piano
URL:https://www.ausl.bologna.it/istituto-delle-scienze-neurologiche/for/at
 tivita-formative-di-aggiornamento-professionale/cgrp-ed-emicrania-e-inizia
 ta-una-nuova-era
END:VEVENT
END:VCALENDAR
