BEGIN:VCALENDAR
VERSION:2.0
PRODID:-//Plone.org//NONSGML plone.app.event//EN
X-WR-TIMEZONE:Europe/Rome
BEGIN:VEVENT
SUMMARY:Visione olistica One Health in Riabilitazione: educazione del pazi
 ente e strategie di prevenzione come investimento clinico e culturale nell
 a gestione della cronicità
DTSTART;TZID=Europe/Rome;VALUE=DATE-TIME:20260506T140000
DTEND;TZID=Europe/Rome;VALUE=DATE-TIME:20260506T180000
DTSTAMP;VALUE=DATE-TIME:20260422T190033Z
UID:f3c4f39fac3b471a93c27e520d48103c@127.0.0.1:8095
ATTENDEE;CN="Responsabile scientifica: Assunta Cesarano, Direttrice Dipart
 imento della Riabilitazione AUSL Bologna";ROLE=REQ-PARTICIPANT:Responsabil
 e scientifica: Assunta Cesarano, Direttrice Dipartimento della Riabilitazi
 one AUSL Bologna
CATEGORIES:Istituto Scienze Neurologiche
CONTACT:riabilitazionenord@gmail.com
CREATED;VALUE=DATE-TIME:20260415T125324Z
DESCRIPTION:CONVEGNO - Padiglione G\, Primo Piano\, Aula Lugaresi\, Ospeda
 le Bellaria\, Via Altura 3\, Bologna
LAST-MODIFIED;VALUE=DATE-TIME:20260415T125453Z
LOCATION:Padiglione G\, Primo Piano\, Aula Lugaresi\, Ospedale Bellaria\, 
 Via Altura 3\, Bologna
URL:https://www.ausl.bologna.it/istituto-delle-scienze-neurologiche/appunt
 amenti-dellistituto/visione-olistica-one-health-in-riabilitazione-educazio
 ne-del-paziente-e-strategie-di-prevenzione-come-investimento-clinico-e-cul
 turale-nella-gestione-della-cronicita
END:VEVENT
BEGIN:VTIMEZONE
TZID:Europe/Rome
X-LIC-LOCATION:Europe/Rome
BEGIN:DAYLIGHT
DTSTART;VALUE=DATE-TIME:20260329T030000
TZNAME:CEST
TZOFFSETFROM:+0100
TZOFFSETTO:+0200
END:DAYLIGHT
END:VTIMEZONE
END:VCALENDAR
