BEGIN:VCALENDAR
VERSION:2.0
PRODID:-//Plone.org//NONSGML plone.app.event//EN
X-WR-TIMEZONE:Europe/Rome
BEGIN:VEVENT
SUMMARY:Trasferimento Tecnologico
DTSTART;TZID=Europe/Rome;VALUE=DATE-TIME:20260423T093000
DTEND;TZID=Europe/Rome;VALUE=DATE-TIME:20260423T123000
DTSTAMP;VALUE=DATE-TIME:20260422T153819Z
UID:a524acb8ad164cb0bc510e9dfce1482b@127.0.0.1:8095
CATEGORIES:Istituto Scienze Neurologiche
CREATED;VALUE=DATE-TIME:20260415T122710Z
DESCRIPTION:INCONTRO - Aula Ruggiero (pad. A\, piano terra)\, Ospedale Bel
 laria\, Via Altura 3\, Bologna
LAST-MODIFIED;VALUE=DATE-TIME:20260415T122803Z
LOCATION:Aula Ruggiero (pad. A\, piano terra)\, Ospedale Bellaria\, Via Al
 tura 3\, Bologna
URL:https://www.ausl.bologna.it/istituto-delle-scienze-neurologiche/appunt
 amenti-dellistituto/trasferimento-tecnologico
END:VEVENT
BEGIN:VTIMEZONE
TZID:Europe/Rome
X-LIC-LOCATION:Europe/Rome
BEGIN:DAYLIGHT
DTSTART;VALUE=DATE-TIME:20260329T030000
TZNAME:CEST
TZOFFSETFROM:+0100
TZOFFSETTO:+0200
END:DAYLIGHT
END:VTIMEZONE
END:VCALENDAR
