BEGIN:VCALENDAR
VERSION:2.0
PRODID:-//Plone.org//NONSGML plone.app.event//EN
X-WR-TIMEZONE:Europe/Rome
BEGIN:VEVENT
SUMMARY:Sanità e innovazione: l'esperienza degli IRCCS
DTSTART;TZID=Europe/Rome;VALUE=DATE-TIME:20250116T100000
DTEND;TZID=Europe/Rome;VALUE=DATE-TIME:20250116T130000
DTSTAMP;VALUE=DATE-TIME:20260422T191630Z
UID:ba33cc17d3c44de5be5634ba7fa85ae4@127.0.0.1:8095
ATTENDEE;CN="Prof. Marcella Gola - Coordinatrice Centro Studi di Diritto S
 anitario";ROLE=REQ-PARTICIPANT:Prof. Marcella Gola - Coordinatrice Centro 
 Studi di Diritto Sanitario
ATTENDEE;CN="Prof. Raffaele Lodi - Direttore Scientifico IRCCS ISN - AUSL 
 di Bologna";ROLE=REQ-PARTICIPANT:Prof. Raffaele Lodi - Direttore Scientifi
 co IRCCS ISN - AUSL di Bologna
ATTENDEE;CN="Dott. Giovanni Ferro - Direttore Amministrativo IRCCS ISN - A
 USL di Bologna";ROLE=REQ-PARTICIPANT:Dott. Giovanni Ferro - Direttore Ammi
 nistrativo IRCCS ISN - AUSL di Bologna
CATEGORIES:Istituto Scienze Neurologiche
CONTACT:051.2094053/35\, spisa.direzionesegreteria@unibo.it\, http://spisa
 web.unibo.it/iscrizioni/
CREATED;VALUE=DATE-TIME:20250110T084144Z
DESCRIPTION:Seminario - Online tramite piattaforma Microsoft Teams
LAST-MODIFIED;VALUE=DATE-TIME:20250110T085443Z
LOCATION:Seminario online
URL:https://www.ausl.bologna.it/istituto-delle-scienze-neurologiche/appunt
 amenti-dellistituto/sanita-e-innovazione-esperienza-irccs
END:VEVENT
BEGIN:VTIMEZONE
TZID:Europe/Rome
X-LIC-LOCATION:Europe/Rome
BEGIN:STANDARD
DTSTART;VALUE=DATE-TIME:20241027T020000
TZNAME:CET
TZOFFSETFROM:+0200
TZOFFSETTO:+0100
END:STANDARD
END:VTIMEZONE
END:VCALENDAR
