BEGIN:VCALENDAR
VERSION:2.0
PRODID:-//Plone.org//NONSGML plone.app.event//EN
X-WR-TIMEZONE:Europe/Rome
BEGIN:VEVENT
SUMMARY:L’intervento con le famiglie secondo il NewMaudsleyModel nei cas
 i di pazienti in età evolutiva con disturbo della nutrizione e dell’ali
 mentazione
DTSTART;TZID=Europe/Rome;VALUE=DATE-TIME:20260325T080000
DTEND;TZID=Europe/Rome;VALUE=DATE-TIME:20260326T163000
DTSTAMP;VALUE=DATE-TIME:20260422T191810Z
UID:6cae9227749f4a8096888e8065428e9d@127.0.0.1:8095
ATTENDEE;CN="RESPONSABILE SCIENTIFICO";ROLE=REQ-PARTICIPANT:RESPONSABILE S
 CIENTIFICO
ATTENDEE;CN="Prof. Antonia Parmeggiani - Professore Associato di Neuropsic
 hiatria Infantile presso il Dipartimento di Scienze Mediche e Chirurgiche 
 dell’Università di Bologna, Responsabile del Centro Regionale dell’Em
 ilia Romagna per i Disturbi della Nutrizione e dell’Alimentazione in et
 à evolutiva, UOC Neuropsichiatria dell’Età";ROLE=REQ-PARTICIPANT:Prof.
  Antonia Parmeggiani - Professore Associato di Neuropsichiatria Infantile 
 presso il Dipartimento di Scienze Mediche e Chirurgiche dell’Università
  di Bologna, Responsabile del Centro Regionale dell’Emilia Romagna per i
  Disturbi della Nutrizione e dell’Alimentazione in età evolutiva, UOC N
 europsichiatria dell’Età
ATTENDEE;CN="Pediatrica, IRCCS Istituto delle Scienze Neurologiche";ROLE=R
 EQ-PARTICIPANT:Pediatrica, IRCCS Istituto delle Scienze Neurologiche
ATTENDEE;CN=;ROLE=REQ-PARTICIPANT:
ATTENDEE;CN="COMITATO SCIENTIFICO";ROLE=REQ-PARTICIPANT:COMITATO SCIENTIFI
 CO
ATTENDEE;CN="Dott.ssa Simona Simone -  Psicologa - Neuropsicologia & Medic
 ine Integrate FANEP - IRCCS Sant’Orsola e";ROLE=REQ-PARTICIPANT:Dott.ssa
  Simona Simone -  Psicologa - Neuropsicologia & Medicine Integrate FANEP -
  IRCCS Sant’Orsola e
ATTENDEE;CN="IRCCS Istituto Scienze Neurologiche di Bologna";ROLE=REQ-PART
 ICIPANT:IRCCS Istituto Scienze Neurologiche di Bologna
ATTENDEE;CN="Dott.ssa Elisabetta Malaspina - Dirigente Medico UOC Neuropsi
 chiatria dell’Età Pediatrica presso IRCCS Istituto delle Scienze Neurol
 ogiche";ROLE=REQ-PARTICIPANT:Dott.ssa Elisabetta Malaspina - Dirigente Med
 ico UOC Neuropsichiatria dell’Età Pediatrica presso IRCCS Istituto dell
 e Scienze Neurologiche
ATTENDEE;CN="Dott.ssa Arianna Mancini - Dirigente Medico UOC Neuropsichiat
 rica dell’Età Pediatrica presso IRCCS Istituto delle Scienze Neurologic
 he";ROLE=REQ-PARTICIPANT:Dott.ssa Arianna Mancini - Dirigente Medico UOC N
 europsichiatrica dell’Età Pediatrica presso IRCCS Istituto delle Scienz
 e Neurologiche
CATEGORIES:Istituto Scienze Neurologiche
CONTACT:Symposium Eventi srl\, +39 338 7479543\, segreteria@symposium-even
 ti.it\, https://www.symposium-eventi.it/registration-form-corso-fanep-2026
 /
CREATED;VALUE=DATE-TIME:20260311T135631Z
DESCRIPTION:CORSO DI FORMAZIONE - PAD G\, 1 piano\, Aula Pasquale Montagna
  - IRCCS ISNB\, Ospedale Bellaria\, Via Altura 3\, Bologna
LAST-MODIFIED;VALUE=DATE-TIME:20260311T135807Z
LOCATION:PAD G\, 1 piano\, Aula Pasquale Montagna - IRCCS ISNB\, Ospedale 
 Bellaria\, Via Altura 3\, Bologna
URL:https://www.ausl.bologna.it/istituto-delle-scienze-neurologiche/appunt
 amenti-dellistituto/newmaudsleymodel-eta-evolutiva-disturbo-della-nutrizio
 ne-alimentazione
END:VEVENT
BEGIN:VTIMEZONE
TZID:Europe/Rome
X-LIC-LOCATION:Europe/Rome
BEGIN:STANDARD
DTSTART;VALUE=DATE-TIME:20251026T020000
TZNAME:CET
TZOFFSETFROM:+0200
TZOFFSETTO:+0100
END:STANDARD
END:VTIMEZONE
END:VCALENDAR
