BEGIN:VCALENDAR
VERSION:2.0
PRODID:-//Plone.org//NONSGML plone.app.event//EN
X-WR-TIMEZONE:Europe/Rome
BEGIN:VEVENT
SUMMARY:Neuro-Oncology Focus
DTSTART;TZID=Europe/Rome;VALUE=DATE-TIME:20260424T153000
DTEND;TZID=Europe/Rome;VALUE=DATE-TIME:20260424T180000
DTSTAMP;VALUE=DATE-TIME:20260422T172402Z
UID:0eabb59d96594a318f534599bb6d3263@127.0.0.1:8095
ATTENDEE;CN="Responsabile scientifico";ROLE=REQ-PARTICIPANT:Responsabile s
 cientifico
ATTENDEE;CN="Dott. Enrico Franceschi - Direttore della UOC di Oncologia de
 l Sistema Nervoso dell’IRCCS Istituto delle Scienze Neurologiche di Bolo
 gna";ROLE=REQ-PARTICIPANT:Dott. Enrico Franceschi - Direttore della UOC di
  Oncologia del Sistema Nervoso dell’IRCCS Istituto delle Scienze Neurolo
 giche di Bologna
CATEGORIES:Istituto Scienze Neurologiche
CONTACT:oncologiasistemanervoso@ausl.bologna.it
CREATED;VALUE=DATE-TIME:20260421T134323Z
DESCRIPTION:INCONTRO - Aula Ruggero - Ospedale Bellaria - Bologna
LAST-MODIFIED;VALUE=DATE-TIME:20260421T135045Z
LOCATION:Aula Ruggero - Ospedale Bellaria - Bologna
URL:https://www.ausl.bologna.it/istituto-delle-scienze-neurologiche/appunt
 amenti-dellistituto/neuro-oncology-focus
END:VEVENT
BEGIN:VTIMEZONE
TZID:Europe/Rome
X-LIC-LOCATION:Europe/Rome
BEGIN:DAYLIGHT
DTSTART;VALUE=DATE-TIME:20260329T030000
TZNAME:CEST
TZOFFSETFROM:+0100
TZOFFSETTO:+0200
END:DAYLIGHT
END:VTIMEZONE
END:VCALENDAR
