BEGIN:VCALENDAR
VERSION:2.0
PRODID:-//Plone.org//NONSGML plone.app.event//EN
X-WR-TIMEZONE:Europe/Rome
BEGIN:VEVENT
SUMMARY:Brain health: quali opportunità per ISNB
DTSTART;TZID=Europe/Rome;VALUE=DATE-TIME:20260126T120000
DTEND;TZID=Europe/Rome;VALUE=DATE-TIME:20260126T140000
DTSTAMP;VALUE=DATE-TIME:20260422T191645Z
UID:5dbb8d52ed7e4f648af5a89a9cc6330b@127.0.0.1:8095
ATTENDEE;CN="Emilia BELFIORE - CEO";ROLE=REQ-PARTICIPANT:Emilia BELFIORE -
  CEO
ATTENDEE;CN="Euro Partners & Associés srl";ROLE=REQ-PARTICIPANT:Euro Part
 ners & Associés srl
ATTENDEE;CN=;ROLE=REQ-PARTICIPANT:
ATTENDEE;CN="Isabella D’APOLITO - Managing Director";ROLE=REQ-PARTICIPAN
 T:Isabella D’APOLITO - Managing Director
ATTENDEE;CN="Euro Partners & Associés srl";ROLE=REQ-PARTICIPANT:Euro Part
 ners & Associés srl
CATEGORIES:Istituto Scienze Neurologiche
CREATED;VALUE=DATE-TIME:20260126T091800Z
DESCRIPTION:SEMINARIO - Biblioteca Storica - Padiglione Ingresso\, Piano 2
 °\, Ospedale Bellaria\, via Altura 3\, Bologna
LAST-MODIFIED;VALUE=DATE-TIME:20260126T092141Z
LOCATION:Biblioteca Storica - Padiglione Ingresso\, Piano 2°\, Ospedale B
 ellaria\, via Altura 3\, Bologna
URL:https://www.ausl.bologna.it/istituto-delle-scienze-neurologiche/appunt
 amenti-dellistituto/brain-health-quali-opportunita-per-isnb
END:VEVENT
BEGIN:VTIMEZONE
TZID:Europe/Rome
X-LIC-LOCATION:Europe/Rome
BEGIN:STANDARD
DTSTART;VALUE=DATE-TIME:20251026T020000
TZNAME:CET
TZOFFSETFROM:+0200
TZOFFSETTO:+0100
END:STANDARD
END:VTIMEZONE
END:VCALENDAR
