BEGIN:VCALENDAR
VERSION:2.0
PRODID:-//Plone.org//NONSGML plone.app.event//EN
X-WR-TIMEZONE:Europe/Rome
BEGIN:VEVENT
SUMMARY:Bologna Cefalea 2026
DTSTART;TZID=Europe/Rome;VALUE=DATE-TIME:20260206T083000
DTEND;TZID=Europe/Rome;VALUE=DATE-TIME:20260206T183000
DTSTAMP;VALUE=DATE-TIME:20260422T191456Z
UID:6139e75ebfd243728b1d147456393af3@127.0.0.1:8095
ATTENDEE;CN="Coordinatori del Corso: ";ROLE=REQ-PARTICIPANT:Coordinatori d
 el Corso: 
ATTENDEE;CN=;ROLE=REQ-PARTICIPANT:
ATTENDEE;CN="Sabina Cevoli, Valentina Favoni e Davide Mascarella (Centro p
 er lo Studio e la Cura delle Cefalee ed Algie Facciali - IRCCS Istituto de
 lle Scienze Neurologiche di Bologna)";ROLE=REQ-PARTICIPANT:Sabina Cevoli, 
 Valentina Favoni e Davide Mascarella (Centro per lo Studio e la Cura delle
  Cefalee ed Algie Facciali - IRCCS Istituto delle Scienze Neurologiche di 
 Bologna)
ATTENDEE;CN=;ROLE=REQ-PARTICIPANT:
ATTENDEE;CN="Pietro Cortelli e Giulia Pierangeli (Dipartimento di Scienze 
 Biomediche e Neuromotorie - DIBINEM Alma Mater Studiorum - Università di 
 Bologna)";ROLE=REQ-PARTICIPANT:Pietro Cortelli e Giulia Pierangeli (Dipart
 imento di Scienze Biomediche e Neuromotorie - DIBINEM Alma Mater Studiorum
  - Università di Bologna)
CATEGORIES:Istituto Scienze Neurologiche
CONTACT:MCC srl\, 051 263703\, segreteria@mccstudio.org\, http://www.mccst
 udio.org
CREATED;VALUE=DATE-TIME:20260129T220555Z
DESCRIPTION:CONVEGNO - Royal Hotel Carlton - Via Montebello 8 - Bologna
LAST-MODIFIED;VALUE=DATE-TIME:20260129T220650Z
LOCATION:Royal Hotel Carlton - Via Montebello 8 - Bologna
URL:https://www.ausl.bologna.it/istituto-delle-scienze-neurologiche/appunt
 amenti-dellistituto/bologna-cefalea-2026
END:VEVENT
BEGIN:VTIMEZONE
TZID:Europe/Rome
X-LIC-LOCATION:Europe/Rome
BEGIN:STANDARD
DTSTART;VALUE=DATE-TIME:20251026T020000
TZNAME:CET
TZOFFSETFROM:+0200
TZOFFSETTO:+0100
END:STANDARD
END:VTIMEZONE
END:VCALENDAR
