BEGIN:VCALENDAR
VERSION:2.0
PRODID:-//Plone.org//NONSGML plone.app.event//EN
X-WR-TIMEZONE:Europe/Rome
BEGIN:VEVENT
SUMMARY:Bisogni emergenti di salute mentale nei giovani
DTSTART;TZID=Europe/Rome;VALUE=DATE-TIME:20260327T143000
DTEND;TZID=Europe/Rome;VALUE=DATE-TIME:20260327T180000
DTSTAMP;VALUE=DATE-TIME:20260422T191655Z
UID:b62e1ee21507407cb84830e8da90ee6f@127.0.0.1:8095
ATTENDEE;CN="Raaele Lodi - Direttore scientifico IRCCS Istituto delle Scie
 nze Neurologiche";ROLE=REQ-PARTICIPANT:Raaele Lodi - Direttore scientifico
  IRCCS Istituto delle Scienze Neurologiche
ATTENDEE;CN="Marco Menchei - Professore associato Università di Bologna";
 ROLE=REQ-PARTICIPANT:Marco Menchei - Professore associato Università di B
 ologna
CATEGORIES:Istituto Scienze Neurologiche
CONTACT:FirstClass\, +39 02 30066329\, info@fclassevents.com\, https://sal
 utementale-27marzo.myquadra.it/
CREATED;VALUE=DATE-TIME:20260320T105627Z
DESCRIPTION:CONVEGNO - Sala della Consulta\, Istituto Comprensivo n. 5\, I
 mola
LAST-MODIFIED;VALUE=DATE-TIME:20260320T110513Z
LOCATION:Sala della Consulta\, Istituto Comprensivo n. 5\, Imola
URL:https://www.ausl.bologna.it/istituto-delle-scienze-neurologiche/appunt
 amenti-dellistituto/bisogni-emergenti-di-salute-mentale-nei-giovani-27-mar
 zo
END:VEVENT
BEGIN:VTIMEZONE
TZID:Europe/Rome
X-LIC-LOCATION:Europe/Rome
BEGIN:STANDARD
DTSTART;VALUE=DATE-TIME:20251026T020000
TZNAME:CET
TZOFFSETFROM:+0200
TZOFFSETTO:+0100
END:STANDARD
END:VTIMEZONE
END:VCALENDAR
