BEGIN:VCALENDAR
VERSION:2.0
PRODID:-//Plone.org//NONSGML plone.app.event//EN
X-WR-TIMEZONE:Europe/Rome
BEGIN:VEVENT
SUMMARY:Terapia Intensiva metabolica nel 2024
DTSTART;TZID=Europe/Rome;VALUE=DATE-TIME:20241017T143000
DTEND;TZID=Europe/Rome;VALUE=DATE-TIME:20241017T163000
DTSTAMP;VALUE=DATE-TIME:20260422T191809Z
UID:011c587b482441b19c3f63860f7bc6ae@127.0.0.1:8095
ATTENDEE;CN="Professor Marco Zanello, già Direttore della UOC Anestesia e
  Rianimazione IRCCS Istituto delle Scienze Neurologiche";ROLE=REQ-PARTICIP
 ANT:Professor Marco Zanello, già Direttore della UOC Anestesia e Rianimaz
 ione IRCCS Istituto delle Scienze Neurologiche
CATEGORIES:Istituto Scienze Neurologiche
CREATED;VALUE=DATE-TIME:20241002T121156Z
DESCRIPTION:Seminario -  Aula Magna\, Padiglione Tinozzi (piano terra)\, O
 spedale Bellaria\, via Altura 3\, Bologna
LAST-MODIFIED;VALUE=DATE-TIME:20260316T143848Z
LOCATION:Aula Magna\, Padiglione Tinozzi (piano terra)\, Ospedale Bellaria
 \, via Altura 3\, Bologna
URL:https://www.ausl.bologna.it/istituto-delle-scienze-neurologiche/appunt
 amenti-dellistituto/archivio/terapia-intensiva-metabolica-nel-2024
END:VEVENT
BEGIN:VTIMEZONE
TZID:Europe/Rome
X-LIC-LOCATION:Europe/Rome
BEGIN:DAYLIGHT
DTSTART;VALUE=DATE-TIME:20240331T030000
TZNAME:CEST
TZOFFSETFROM:+0100
TZOFFSETTO:+0200
END:DAYLIGHT
END:VTIMEZONE
END:VCALENDAR
