BEGIN:VCALENDAR
VERSION:2.0
PRODID:-//Plone.org//NONSGML plone.app.event//EN
X-WR-TIMEZONE:Europe/Rome
BEGIN:VEVENT
SUMMARY:Telemedicina in epilessia\, l'esperienza del trial TELE-EPIC
DTSTART;TZID=Europe/Rome;VALUE=DATE-TIME:20240619T090000
DTEND;TZID=Europe/Rome;VALUE=DATE-TIME:20240619T170000
DTSTAMP;VALUE=DATE-TIME:20260422T191807Z
UID:859f31acdef94320bc93b72b78e12e06@127.0.0.1:8095
ATTENDEE;CN="RESPONSABILI SCIENTIFICI";ROLE=REQ-PARTICIPANT:RESPONSABILI S
 CIENTIFICI
ATTENDEE;CN="Dr.ssa Laura Licchetta";ROLE=REQ-PARTICIPANT:Dr.ssa Laura Lic
 chetta
ATTENDEE;CN="Dr. Luca Vignatelli";ROLE=REQ-PARTICIPANT:Dr. Luca Vignatelli
CATEGORIES:Istituto Scienze Neurologiche
CREATED;VALUE=DATE-TIME:20240510T142741Z
DESCRIPTION:Conferenza - Aule Didattiche Padiglione G - Ospedale Bellaria\
 , via Altura 3\, Bologna
LAST-MODIFIED;VALUE=DATE-TIME:20260316T143231Z
LOCATION:Ospedale Bellaria\, via Altura 3\, Bologna
URL:https://www.ausl.bologna.it/istituto-delle-scienze-neurologiche/appunt
 amenti-dellistituto/archivio/telemedicnia-in-epilessia-trial-tele-epic
END:VEVENT
BEGIN:VTIMEZONE
TZID:Europe/Rome
X-LIC-LOCATION:Europe/Rome
BEGIN:DAYLIGHT
DTSTART;VALUE=DATE-TIME:20240331T030000
TZNAME:CEST
TZOFFSETFROM:+0100
TZOFFSETTO:+0200
END:DAYLIGHT
END:VTIMEZONE
END:VCALENDAR
