BEGIN:VCALENDAR
VERSION:2.0
PRODID:-//Plone.org//NONSGML plone.app.event//EN
X-WR-TIMEZONE:Europe/Rome
BEGIN:VEVENT
SUMMARY:Riunione Regionale SIN 2024 Emilia-Romagna
DTSTART;TZID=Europe/Rome;VALUE=DATE-TIME:20241129T090000
DTEND;TZID=Europe/Rome;VALUE=DATE-TIME:20241129T173000
DTSTAMP;VALUE=DATE-TIME:20260422T191630Z
UID:3e843a4ce42547458771570c47e559be@127.0.0.1:8095
ATTENDEE;CN="Responsabili Scientifici Doriana Medici e Marco Longoni";ROLE
 =REQ-PARTICIPANT:Responsabili Scientifici Doriana Medici e Marco Longoni
ATTENDEE;CN=;ROLE=REQ-PARTICIPANT:
CATEGORIES:Istituto Scienze Neurologiche
CONTACT:Sienacongress\, 0577 286003\, info@sienacongress.it
CREATED;VALUE=DATE-TIME:20241028T072350Z
DESCRIPTION:Convegno - Sala XX Maggio 2012\, Palazzo della Regione\, Viale
  della Fiera 8\, Bologna
LAST-MODIFIED;VALUE=DATE-TIME:20260316T143846Z
LOCATION:Sala XX Maggio 2012\, Palazzo della Regione\, Viale della Fiera 8
 \, Bologna
URL:https://www.ausl.bologna.it/istituto-delle-scienze-neurologiche/appunt
 amenti-dellistituto/archivio/riunione-regionale-sin-2024-emilia-romagna
END:VEVENT
BEGIN:VTIMEZONE
TZID:Europe/Rome
X-LIC-LOCATION:Europe/Rome
BEGIN:STANDARD
DTSTART;VALUE=DATE-TIME:20241027T020000
TZNAME:CET
TZOFFSETFROM:+0200
TZOFFSETTO:+0100
END:STANDARD
END:VTIMEZONE
END:VCALENDAR
