BEGIN:VCALENDAR
VERSION:2.0
PRODID:-//Plone.org//NONSGML plone.app.event//EN
X-WR-TIMEZONE:Europe/Rome
BEGIN:VEVENT
SUMMARY:Retreat della ricerca dell'Emilia-Romagna
DTSTART;TZID=Europe/Rome;VALUE=DATE-TIME:20240504T103000
DTEND;TZID=Europe/Rome;VALUE=DATE-TIME:20240505T130000
DTSTAMP;VALUE=DATE-TIME:20260422T191516Z
UID:92e6e149d85e4ae2abadb636d03c5daf@127.0.0.1:8095
CATEGORIES:Istituto Scienze Neurologiche
CONTACT:Segreteria organizzativa\, 0541 305847\, c.cherubini@adriacongrex.
 it\, https://retreat2024.adriacongrex.it/
CREATED;VALUE=DATE-TIME:20240326T000216Z
DESCRIPTION:Convegno - Palacongressi\, via della Fiera 23\, Rimini
LAST-MODIFIED;VALUE=DATE-TIME:20240326T000511Z
LOCATION:Palacongressi di Rimini\, via della Fiera 23\, Rimini
URL:https://www.ausl.bologna.it/istituto-delle-scienze-neurologiche/appunt
 amenti-dellistituto/archivio/retreat-della-ricerca-2024-emilia-romagna
END:VEVENT
BEGIN:VTIMEZONE
TZID:Europe/Rome
X-LIC-LOCATION:Europe/Rome
BEGIN:DAYLIGHT
DTSTART;VALUE=DATE-TIME:20240331T030000
TZNAME:CEST
TZOFFSETFROM:+0100
TZOFFSETTO:+0200
END:DAYLIGHT
END:VTIMEZONE
END:VCALENDAR
