BEGIN:VCALENDAR
VERSION:2.0
PRODID:-//Plone.org//NONSGML plone.app.event//EN
X-WR-TIMEZONE:Europe/Rome
BEGIN:VEVENT
SUMMARY:Rare and complex epilepsies
DTSTART;VALUE=DATE:20231011
DTEND;VALUE=DATE:20231012
DTSTAMP;VALUE=DATE-TIME:20260422T191533Z
UID:bd3fabcba4ef4c6f88cf6dae1fb03523@127.0.0.1:8095
CATEGORIES:Istituto Scienze Neurologiche
CREATED;VALUE=DATE-TIME:20231003T093412Z
DESCRIPTION:Workshop on the project “Drug discovEry and repurposing to F
 ind a trEAtmenT for Lafora Disease (DEFEAT-LD)\, PNRR-MR1-2022-12376430\, 
 finanziato dall’Unione Europea - Next Generation EU - PNRR M6C2 - Invest
 imento 2.1 valorizzazione e potenziamento della ricerca biomedica del SSN
 ”
LAST-MODIFIED;VALUE=DATE-TIME:20240221T140729Z
LOCATION:Bologna\, Relais Bellaria
URL:https://www.ausl.bologna.it/istituto-delle-scienze-neurologiche/appunt
 amenti-dellistituto/archivio/rare-and-complex-epilepsies
END:VEVENT
END:VCALENDAR
