BEGIN:VCALENDAR
VERSION:2.0
PRODID:-//Plone.org//NONSGML plone.app.event//EN
X-WR-TIMEZONE:Europe/Rome
BEGIN:VEVENT
SUMMARY:PROMOTION - PRecisiOn Meeting On radiaTIon ONcology Bologna
DTSTART;TZID=Europe/Rome;VALUE=DATE-TIME:20240607T090000
DTEND;TZID=Europe/Rome;VALUE=DATE-TIME:20240607T170000
DTSTAMP;VALUE=DATE-TIME:20260422T191808Z
UID:66f898f1007e49748eb7ecf105b0204b@127.0.0.1:8095
ATTENDEE;CN="RESPONSABILE SCIENTIFICO: Conti A., D’Angelo E., Franceschi
  E., Maestri A.";ROLE=REQ-PARTICIPANT:RESPONSABILE SCIENTIFICO: Conti A., 
 D’Angelo E., Franceschi E., Maestri A.
CATEGORIES:Istituto Scienze Neurologiche
CREATED;VALUE=DATE-TIME:20240429T200041Z
DESCRIPTION:Convegno - Aula Tinozzi Ospedale Bellaria\, via Altura 3\, Bol
 ogna
LAST-MODIFIED;VALUE=DATE-TIME:20260316T143230Z
LOCATION:Aula Tinozzi Ospedale Bellaria\, via Altura 3\, Bologna
URL:https://www.ausl.bologna.it/istituto-delle-scienze-neurologiche/appunt
 amenti-dellistituto/archivio/promotion-precision-meeting-on-radiationoncol
 ology-bologna
END:VEVENT
BEGIN:VTIMEZONE
TZID:Europe/Rome
X-LIC-LOCATION:Europe/Rome
BEGIN:DAYLIGHT
DTSTART;VALUE=DATE-TIME:20240331T030000
TZNAME:CEST
TZOFFSETFROM:+0100
TZOFFSETTO:+0200
END:DAYLIGHT
END:VTIMEZONE
END:VCALENDAR
