BEGIN:VCALENDAR
VERSION:2.0
PRODID:-//Plone.org//NONSGML plone.app.event//EN
X-WR-TIMEZONE:Europe/Rome
BEGIN:VEVENT
SUMMARY:Opzioni riproduttive per coppie con malattie mitocondriali
DTSTART;TZID=Europe/Rome;VALUE=DATE-TIME:20240520T150000
DTSTAMP;VALUE=DATE-TIME:20260422T191809Z
UID:59390b4871d24c759ac49a2ea4667f0a@127.0.0.1:8095
ATTENDEE;CN="Dott.ssa Daniela Zuccarello (Università di Padova)";ROLE=REQ
 -PARTICIPANT:Dott.ssa Daniela Zuccarello (Università di Padova)
CATEGORIES:Istituto Scienze Neurologiche
CONTACT:Prof.ssa Caterina Garone\, caterina.garone@unibo.it
CREATED;VALUE=DATE-TIME:20240517T103258Z
DESCRIPTION:Seminario - IRCCS S.Orsola di Bologna il 20 maggio 2024 alle o
 re 15.00
LAST-MODIFIED;VALUE=DATE-TIME:20260316T143229Z
LOCATION:Aula Didattica E.Piccinini (Polo Murri) dell'IRCCS S.Orsola di Bo
 logna
URL:https://www.ausl.bologna.it/istituto-delle-scienze-neurologiche/appunt
 amenti-dellistituto/archivio/opzioni-riproduttive-coppie-malattie-mitocond
 riali-2024
END:VEVENT
BEGIN:VTIMEZONE
TZID:Europe/Rome
X-LIC-LOCATION:Europe/Rome
BEGIN:DAYLIGHT
DTSTART;VALUE=DATE-TIME:20240331T030000
TZNAME:CEST
TZOFFSETFROM:+0100
TZOFFSETTO:+0200
END:DAYLIGHT
END:VTIMEZONE
END:VCALENDAR
