BEGIN:VCALENDAR
VERSION:2.0
PRODID:-//Plone.org//NONSGML plone.app.event//EN
X-WR-TIMEZONE:Europe/Rome
BEGIN:VEVENT
SUMMARY:Open Day del MASTER di I livello in "Pratiche di consapevolezza e 
 mindfulness in neuroscienze e negli ambiti della salute"
DTSTART;TZID=Europe/Rome;VALUE=DATE-TIME:20231017T184500
DTEND;TZID=Europe/Rome;VALUE=DATE-TIME:20231017T200000
DTSTAMP;VALUE=DATE-TIME:20260422T191656Z
UID:f59c28dc71eb4952a8708b16052dea24@127.0.0.1:8095
CATEGORIES:Istituto Scienze Neurologiche
CONTACT:https://master.unibo.it/pratiche-di-consapevolezza-e-mindfulness-i
 n-neuroscienze-e-negli-ambiti-della-salute/it
CREATED;VALUE=DATE-TIME:20230927T081855Z
DESCRIPTION:Evento online
LAST-MODIFIED;VALUE=DATE-TIME:20231003T090325Z
LOCATION:Microsoft TEAMS
URL:https://www.ausl.bologna.it/istituto-delle-scienze-neurologiche/appunt
 amenti-dellistituto/archivio/open-day-del-master-i-livello-in-pratiche-di-
 consapevolezza-e-mindfulness-in-neuroscienze-e-negli-ambiti-della-salute
END:VEVENT
BEGIN:VTIMEZONE
TZID:Europe/Rome
X-LIC-LOCATION:Europe/Rome
BEGIN:DAYLIGHT
DTSTART;VALUE=DATE-TIME:20230326T030000
TZNAME:CEST
TZOFFSETFROM:+0100
TZOFFSETTO:+0200
END:DAYLIGHT
END:VTIMEZONE
END:VCALENDAR
