BEGIN:VCALENDAR
VERSION:2.0
PRODID:-//Plone.org//NONSGML plone.app.event//EN
X-WR-TIMEZONE:Europe/Rome
BEGIN:VEVENT
SUMMARY:Notte Europea dei Ricercatori 2023 - BOLOGNA
DTSTART;TZID=Europe/Rome;VALUE=DATE-TIME:20230929T180000
DTEND;TZID=Europe/Rome;VALUE=DATE-TIME:20230930T000000
DTSTAMP;VALUE=DATE-TIME:20260422T191656Z
UID:cc2921c19a6343bda4d1e4ffe1c39468@127.0.0.1:8095
CATEGORIES:Istituto Scienze Neurologiche
CONTACT:https://www.nottedeiricercatori-society.eu/
CREATED;VALUE=DATE-TIME:20230926T083255Z
DESCRIPTION:Edizione 2023 della Notte Europea dei Ricercatori
LAST-MODIFIED;VALUE=DATE-TIME:20260316T143723Z
LOCATION:Piazza Lucio Dalla - Bologna
URL:https://www.ausl.bologna.it/istituto-delle-scienze-neurologiche/appunt
 amenti-dellistituto/archivio/notte-europea-dei-ricercatori-2023-bologna
END:VEVENT
BEGIN:VTIMEZONE
TZID:Europe/Rome
X-LIC-LOCATION:Europe/Rome
BEGIN:DAYLIGHT
DTSTART;VALUE=DATE-TIME:20230326T030000
TZNAME:CEST
TZOFFSETFROM:+0100
TZOFFSETTO:+0200
END:DAYLIGHT
END:VTIMEZONE
END:VCALENDAR
