BEGIN:VCALENDAR
VERSION:2.0
PRODID:-//Plone.org//NONSGML plone.app.event//EN
X-WR-TIMEZONE:Europe/Rome
BEGIN:VEVENT
SUMMARY:New approaches in brain tumors
DTSTART;VALUE=DATE:20240927
DTEND;VALUE=DATE:20240928
DTSTAMP;VALUE=DATE-TIME:20260422T191631Z
UID:3704ef66c18246e09d7d4ca47ba204dc@127.0.0.1:8095
ATTENDEE;CN="Dott. Enrico Franceschi, Direttore della UOC di Oncologia del
  Sistema Nervoso dell'IRCCS ISNB";ROLE=REQ-PARTICIPANT:Dott. Enrico France
 schi, Direttore della UOC di Oncologia del Sistema Nervoso dell'IRCCS ISNB
CATEGORIES:Istituto Scienze Neurologiche
CONTACT:https://www.mitcongressi.it/index.php?pag=dettaglio&IDconvegno=209
 9
CREATED;VALUE=DATE-TIME:20240429T210206Z
DESCRIPTION:Congresso - I Portici Hotel\, Via dell'Indipendenza 69\, Bolog
 na
LAST-MODIFIED;VALUE=DATE-TIME:20260316T143231Z
LOCATION:I Portici Hotel\, Via dell'Indipendenza 69\, Bologna
URL:https://www.ausl.bologna.it/istituto-delle-scienze-neurologiche/appunt
 amenti-dellistituto/archivio/new-approaches-in-brain-tumors
END:VEVENT
END:VCALENDAR
