BEGIN:VCALENDAR
VERSION:2.0
PRODID:-//Plone.org//NONSGML plone.app.event//EN
X-WR-TIMEZONE:Europe/Rome
BEGIN:VEVENT
SUMMARY:Modelli innovativi di ricerca e assistenza per la malattia di Park
 inson: dal laboratorio al sistema
DTSTART;TZID=Europe/Rome;VALUE=DATE-TIME:20241210T100000
DTEND;TZID=Europe/Rome;VALUE=DATE-TIME:20241210T170000
DTSTAMP;VALUE=DATE-TIME:20260422T191808Z
UID:ad26e657cddc44deac63f4531c46a53f@127.0.0.1:8095
ATTENDEE;CN="Per Borghammer";ROLE=REQ-PARTICIPANT:Per Borghammer
CATEGORIES:Istituto Scienze Neurologiche
CONTACT:https://www.mccstudio.org/?p=6012
CREATED;VALUE=DATE-TIME:20241114T113001Z
DESCRIPTION:Seminario - Palazzo dell’Archiginnasio\, Piazza Galvani 1\, 
 Bologna
LAST-MODIFIED;VALUE=DATE-TIME:20260316T143846Z
LOCATION:Palazzo dell’Archiginnasio\, Piazza Galvani 1 - Bologna
URL:https://www.ausl.bologna.it/istituto-delle-scienze-neurologiche/appunt
 amenti-dellistituto/archivio/modelli-innovativi-di-ricerca-e-assistenza-pe
 r-la-malattia-di-parkinson-dal-laboratorio-al-sistema
END:VEVENT
BEGIN:VTIMEZONE
TZID:Europe/Rome
X-LIC-LOCATION:Europe/Rome
BEGIN:STANDARD
DTSTART;VALUE=DATE-TIME:20241027T020000
TZNAME:CET
TZOFFSETFROM:+0200
TZOFFSETTO:+0100
END:STANDARD
END:VTIMEZONE
END:VCALENDAR
