BEGIN:VCALENDAR
VERSION:2.0
PRODID:-//Plone.org//NONSGML plone.app.event//EN
X-WR-TIMEZONE:Europe/Rome
BEGIN:VEVENT
SUMMARY:Malattia di Huntington. Una danza tra destino e speranza
DTSTART;TZID=Europe/Rome;VALUE=DATE-TIME:20241015T150000
DTSTAMP;VALUE=DATE-TIME:20260422T191657Z
UID:11fdb154eb0d4d52802fcc7563630613@127.0.0.1:8095
ATTENDEE;CN="Prof. Pietro Cortelli, Dott.ssa Cesa Scaglione, Prof. Vincenz
 o Alastra";ROLE=REQ-PARTICIPANT:Prof. Pietro Cortelli, Dott.ssa Cesa Scagl
 ione, Prof. Vincenzo Alastra
CATEGORIES:Istituto Scienze Neurologiche
CREATED;VALUE=DATE-TIME:20241010T095646Z
DESCRIPTION:Meeting - Biblioteca storica\, Padiglione Ingresso\, II piano\
 , Ospedale Bellaria\, Via Altura 3\, Bologna
LAST-MODIFIED;VALUE=DATE-TIME:20260316T143848Z
LOCATION:Biblioteca storica\, Padiglione Ingresso\, II piano\, Ospedale Be
 llaria\, Via Altura 3\, Bologna
URL:https://www.ausl.bologna.it/istituto-delle-scienze-neurologiche/appunt
 amenti-dellistituto/archivio/malattia-di-huntington-una-danza-tra-destino-
 e-speranza
END:VEVENT
BEGIN:VTIMEZONE
TZID:Europe/Rome
X-LIC-LOCATION:Europe/Rome
BEGIN:DAYLIGHT
DTSTART;VALUE=DATE-TIME:20240331T030000
TZNAME:CEST
TZOFFSETFROM:+0100
TZOFFSETTO:+0200
END:DAYLIGHT
END:VTIMEZONE
END:VCALENDAR
