BEGIN:VCALENDAR
VERSION:2.0
PRODID:-//Plone.org//NONSGML plone.app.event//EN
X-WR-TIMEZONE:Europe/Rome
BEGIN:VEVENT
SUMMARY:Long-Covid e malattie neurologiche: analisi degli effetti a lungo 
 termine e strategie di utilizzo
DTSTART;TZID=Europe/Rome;VALUE=DATE-TIME:20240521T083000
DTEND;TZID=Europe/Rome;VALUE=DATE-TIME:20240521T140000
DTSTAMP;VALUE=DATE-TIME:20260422T191657Z
UID:8a684f07e8034bd1bb7e57b23da51140@127.0.0.1:8095
CATEGORIES:Istituto Scienze Neurologiche
CONTACT:event@centrostudiamericani.org
CREATED;VALUE=DATE-TIME:20240517T074234Z
DESCRIPTION:Meeting\, Centro Studi Americani\, via Michelangelo Caetani 32
 \, Roma - Martedì 21 maggio 2024\, ore 8.30
LAST-MODIFIED;VALUE=DATE-TIME:20260316T143228Z
LOCATION:Centro Studi Americani\, via Michelangelo Caetani 32\, Roma
URL:https://www.ausl.bologna.it/istituto-delle-scienze-neurologiche/appunt
 amenti-dellistituto/archivio/long-covid-malattie-neurologiche-2024-rin
END:VEVENT
BEGIN:VTIMEZONE
TZID:Europe/Rome
X-LIC-LOCATION:Europe/Rome
BEGIN:DAYLIGHT
DTSTART;VALUE=DATE-TIME:20240331T030000
TZNAME:CEST
TZOFFSETFROM:+0100
TZOFFSETTO:+0200
END:DAYLIGHT
END:VTIMEZONE
END:VCALENDAR
