BEGIN:VCALENDAR
VERSION:2.0
PRODID:-//Plone.org//NONSGML plone.app.event//EN
X-WR-TIMEZONE:Europe/Rome
BEGIN:VEVENT
SUMMARY:I SEMINARI DELL'ISNB - Linee guida in neurologia: l’esperienza e
  le strategie future della European Academy of Neurology
DTSTART;TZID=Europe/Rome;VALUE=DATE-TIME:20241126T150000
DTEND;TZID=Europe/Rome;VALUE=DATE-TIME:20241126T163000
DTSTAMP;VALUE=DATE-TIME:20260422T191819Z
UID:43520331fd9b4ea2a971f8ff88771616@127.0.0.1:8095
ATTENDEE;CN="Dott. Maurizio Leone";ROLE=REQ-PARTICIPANT:Dott. Maurizio Leo
 ne
CATEGORIES:Istituto Scienze Neurologiche
CREATED;VALUE=DATE-TIME:20241029T110631Z
DESCRIPTION:Seminario - Biblioteca storica\, Padiglione Ingresso\, II pian
 o\, Ospedale Bellaria\, Via Altura 3\, Bologna
LAST-MODIFIED;VALUE=DATE-TIME:20260316T143849Z
LOCATION:Biblioteca storica\, Padiglione Ingresso\, II piano\, Ospedale Be
 llaria\, Via Altura 3\, Bologna
URL:https://www.ausl.bologna.it/istituto-delle-scienze-neurologiche/appunt
 amenti-dellistituto/archivio/linee-guida-in-neurologia-l2019esperienza-e-l
 e-strategie-future-della-european-academy-of-neurology
END:VEVENT
BEGIN:VTIMEZONE
TZID:Europe/Rome
X-LIC-LOCATION:Europe/Rome
BEGIN:STANDARD
DTSTART;VALUE=DATE-TIME:20241027T020000
TZNAME:CET
TZOFFSETFROM:+0200
TZOFFSETTO:+0100
END:STANDARD
END:VTIMEZONE
END:VCALENDAR
