BEGIN:VCALENDAR
VERSION:2.0
PRODID:-//Plone.org//NONSGML plone.app.event//EN
X-WR-TIMEZONE:Europe/Rome
BEGIN:VEVENT
SUMMARY:L'approccio Etnopsichiatrico ai Disturbi del Comportamento Aliment
 are: riflessioni cliniche sulle nuove generazioni
DTSTART;TZID=Europe/Rome;VALUE=DATE-TIME:20221129T150000
DTEND;TZID=Europe/Rome;VALUE=DATE-TIME:20221129T180000
DTSTAMP;VALUE=DATE-TIME:20260422T191819Z
UID:b9abee9dd9d6421587aae95846570f18@127.0.0.1:8095
CATEGORIES:Istituto Scienze Neurologiche
CREATED;VALUE=DATE-TIME:20221020T100129Z
DESCRIPTION:Seminario BLU - Scuole di Specializzazione
LAST-MODIFIED;VALUE=DATE-TIME:20221130T091608Z
URL:https://www.ausl.bologna.it/istituto-delle-scienze-neurologiche/appunt
 amenti-dellistituto/archivio/lapproccio-etnopsichiatrico-ai-disturbi-del-c
 omportamento-alimentare-riflessioni-cliniche-sulle-nuove-generazioni
END:VEVENT
BEGIN:VTIMEZONE
TZID:Europe/Rome
X-LIC-LOCATION:Europe/Rome
BEGIN:STANDARD
DTSTART;VALUE=DATE-TIME:20221030T020000
TZNAME:CET
TZOFFSETFROM:+0200
TZOFFSETTO:+0100
END:STANDARD
END:VTIMEZONE
END:VCALENDAR
