BEGIN:VCALENDAR
VERSION:2.0
PRODID:-//Plone.org//NONSGML plone.app.event//EN
X-WR-TIMEZONE:Europe/Rome
BEGIN:VEVENT
SUMMARY:Lafora disease Science Symposium
DTSTART;TZID=Europe/Rome;VALUE=DATE-TIME:20231009T140000
DTEND;TZID=Europe/Rome;VALUE=DATE-TIME:20231010T183000
DTSTAMP;VALUE=DATE-TIME:20260422T191513Z
UID:0eb870bad8e24db49f149208a88e85d1@127.0.0.1:8095
CATEGORIES:Istituto Scienze Neurologiche
CREATED;VALUE=DATE-TIME:20231003T091428Z
DESCRIPTION:Bologna\, October 9th - 10th \, 2023
LAST-MODIFIED;VALUE=DATE-TIME:20231003T092520Z
LOCATION:Bologna\, Relais Bellaria
URL:https://www.ausl.bologna.it/istituto-delle-scienze-neurologiche/appunt
 amenti-dellistituto/archivio/lafora-disease-science-symposium
END:VEVENT
BEGIN:VTIMEZONE
TZID:Europe/Rome
X-LIC-LOCATION:Europe/Rome
BEGIN:DAYLIGHT
DTSTART;VALUE=DATE-TIME:20230326T030000
TZNAME:CEST
TZOFFSETFROM:+0100
TZOFFSETTO:+0200
END:DAYLIGHT
END:VTIMEZONE
END:VCALENDAR
