BEGIN:VCALENDAR
VERSION:2.0
PRODID:-//Plone.org//NONSGML plone.app.event//EN
X-WR-TIMEZONE:Europe/Rome
BEGIN:VEVENT
SUMMARY:La terapia farmacologica delle epilessie
DTSTART;TZID=Europe/Rome;VALUE=DATE-TIME:20241025T133000
DTEND;TZID=Europe/Rome;VALUE=DATE-TIME:20241026T180000
DTSTAMP;VALUE=DATE-TIME:20260422T191815Z
UID:49196b41e4ee49aab50fd97f56f848df@127.0.0.1:8095
ATTENDEE;CN="Responsabile scientifico: Dott.ssa Francesca Bisulli (IRCCS I
 SNB)";ROLE=REQ-PARTICIPANT:Responsabile scientifico: Dott.ssa Francesca Bi
 sulli (IRCCS ISNB)
CATEGORIES:Istituto Scienze Neurologiche
CONTACT:PTS\, 06 85355590\, enzo.cunsolo@ptsroma.it\, https://iscrizioni.p
 tsroma.it/cmsweb/Login.asp?IDcommessa=5606424&Lang=IT
CREATED;VALUE=DATE-TIME:20241019T085434Z
DESCRIPTION:Corso - Aule Lugaresi e Montagna\, Padiglione G1\, IRCCS Istit
 uto Scienze Neurologiche\, Ospedale Bellaria\, Via Altura 3\, Bologna
LAST-MODIFIED;VALUE=DATE-TIME:20260316T143849Z
LOCATION:Aule Lugaresi e Montagna\, Padiglione G1\, IRCCS Istituto Scienze
  Neurologiche\, Ospedale Bellaria\, Via Altura 3\, Bologna
URL:https://www.ausl.bologna.it/istituto-delle-scienze-neurologiche/appunt
 amenti-dellistituto/archivio/la-terapia-farmacologica-delle-epilessie
END:VEVENT
BEGIN:VTIMEZONE
TZID:Europe/Rome
X-LIC-LOCATION:Europe/Rome
BEGIN:DAYLIGHT
DTSTART;VALUE=DATE-TIME:20240331T030000
TZNAME:CEST
TZOFFSETFROM:+0100
TZOFFSETTO:+0200
END:DAYLIGHT
END:VTIMEZONE
END:VCALENDAR
