BEGIN:VCALENDAR
VERSION:2.0
PRODID:-//Plone.org//NONSGML plone.app.event//EN
X-WR-TIMEZONE:Europe/Rome
BEGIN:VEVENT
SUMMARY:IV Annual Meeting Rete RIN IRCCS
DTSTART;VALUE=DATE:20241121
DTEND;VALUE=DATE:20241123
DTSTAMP;VALUE=DATE-TIME:20260422T191631Z
UID:81a98a7664ce47f598133605868b94e8@127.0.0.1:8095
CATEGORIES:Istituto Scienze Neurologiche
CONTACT:Symposia Organizzazione Congressi Srl\, Tel: +39 010 255146\, symp
 osia@symposiacongressi.com\, https://www.symposiacongressi.com/iv-annual-m
 eeting-rete-rin-irccs/
CREATED;VALUE=DATE-TIME:20240221T142114Z
DESCRIPTION:Meeting - Auditorium Centro Congressi IRCCS Ospedale Policlini
 co San Martino\,  Largo Rosanna Benzi 10\, Genova
LAST-MODIFIED;VALUE=DATE-TIME:20241003T102404Z
LOCATION:Auditorium Centro Congressi IRCCS Ospedale Policlinico San Martin
 o\, Largo Rosanna Benzi 10\, Genova
URL:https://www.ausl.bologna.it/istituto-delle-scienze-neurologiche/appunt
 amenti-dellistituto/archivio/iv-annual-meeting-rete-rin-itccs
END:VEVENT
END:VCALENDAR
