BEGIN:VCALENDAR
VERSION:2.0
PRODID:-//Plone.org//NONSGML plone.app.event//EN
X-WR-TIMEZONE:Europe/Rome
BEGIN:VEVENT
SUMMARY:Iniziano i lavori al Bellaria Research Center
DTSTART;TZID=Europe/Rome;VALUE=DATE-TIME:20240318T100000
DTEND;TZID=Europe/Rome;VALUE=DATE-TIME:20240318T120000
DTSTAMP;VALUE=DATE-TIME:20260422T191808Z
UID:1aaa4aa572ed46608afa3c75906ca97d@127.0.0.1:8095
CATEGORIES:Istituto Scienze Neurologiche
CONTACT:segreteria@fondazionersn.it
CREATED;VALUE=DATE-TIME:20240315T235431Z
DESCRIPTION:Aula Magna Tinozzi\, Ospedale Bellaria\, via Altura 3\, Bologn
 a
LAST-MODIFIED;VALUE=DATE-TIME:20240315T235622Z
LOCATION:Aula Magna Tinozzi\, Ospedale Bellaria\, via Altura 3\, Bologna
URL:https://www.ausl.bologna.it/istituto-delle-scienze-neurologiche/appunt
 amenti-dellistituto/archivio/inizio-lavori-bellaria-research-center
END:VEVENT
BEGIN:VTIMEZONE
TZID:Europe/Rome
X-LIC-LOCATION:Europe/Rome
BEGIN:STANDARD
DTSTART;VALUE=DATE-TIME:20231029T020000
TZNAME:CET
TZOFFSETFROM:+0200
TZOFFSETTO:+0100
END:STANDARD
END:VTIMEZONE
END:VCALENDAR
