BEGIN:VCALENDAR
VERSION:2.0
PRODID:-//Plone.org//NONSGML plone.app.event//EN
X-WR-TIMEZONE:Europe/Rome
BEGIN:VEVENT
SUMMARY:III Annual Meeting Rete RIN
DTSTART;TZID=Europe/Rome;VALUE=DATE-TIME:20231130T080000
DTEND;TZID=Europe/Rome;VALUE=DATE-TIME:20231201T190000
DTSTAMP;VALUE=DATE-TIME:20260422T191630Z
UID:d7cd3714f9854886a29e28f874a2ecc0@127.0.0.1:8095
CATEGORIES:Istituto Scienze Neurologiche
CONTACT:https://www.meetingreterin.it/
CREATED;VALUE=DATE-TIME:20231127T095134Z
LAST-MODIFIED;VALUE=DATE-TIME:20240221T140730Z
LOCATION:Angelicum Centro Congressi - ROMA
URL:https://www.ausl.bologna.it/istituto-delle-scienze-neurologiche/appunt
 amenti-dellistituto/archivio/iii-annual-meeting-rete-rin
END:VEVENT
BEGIN:VTIMEZONE
TZID:Europe/Rome
X-LIC-LOCATION:Europe/Rome
BEGIN:STANDARD
DTSTART;VALUE=DATE-TIME:20231029T020000
TZNAME:CET
TZOFFSETFROM:+0200
TZOFFSETTO:+0100
END:STANDARD
END:VTIMEZONE
END:VCALENDAR
