BEGIN:VCALENDAR
VERSION:2.0
PRODID:-//Plone.org//NONSGML plone.app.event//EN
X-WR-TIMEZONE:Europe/Rome
BEGIN:VEVENT
SUMMARY:ICPerMed Training "Research Infrastructures in Personalised Medici
 ne: use\, advantages and challenges"
DTSTART;TZID=Europe/Rome;VALUE=DATE-TIME:20230922T090000
DTEND;TZID=Europe/Rome;VALUE=DATE-TIME:20230922T173000
DTSTAMP;VALUE=DATE-TIME:20260422T191631Z
UID:55c31ec704624e3f9f82f2cd79864a8e@127.0.0.1:8095
CATEGORIES:Istituto Scienze Neurologiche
CONTACT:https://www.icpermed.eu/en/third-icpermed-training-event-1123.php
CREATED;VALUE=DATE-TIME:20230727T080108Z
DESCRIPTION:Terza edizione dell'evento formativo ICPerMed sulle infrastrut
 ture di ricerca per la medicina personalizzata.
LAST-MODIFIED;VALUE=DATE-TIME:20231003T090327Z
LOCATION:Online
URL:https://www.ausl.bologna.it/istituto-delle-scienze-neurologiche/appunt
 amenti-dellistituto/archivio/icpermed-training-research-infrastructures-in
 -personalised-medicine-use-advantages-and-challenges
END:VEVENT
BEGIN:VTIMEZONE
TZID:Europe/Rome
X-LIC-LOCATION:Europe/Rome
BEGIN:DAYLIGHT
DTSTART;VALUE=DATE-TIME:20230326T030000
TZNAME:CEST
TZOFFSETFROM:+0100
TZOFFSETTO:+0200
END:DAYLIGHT
END:VTIMEZONE
END:VCALENDAR
