BEGIN:VCALENDAR
VERSION:2.0
PRODID:-//Plone.org//NONSGML plone.app.event//EN
X-WR-TIMEZONE:Europe/Rome
BEGIN:VEVENT
SUMMARY:Giornata Mondiale delle malattie rare. Formazione\, informazione e
  ascolto in Emillia Romagna
DTSTART;TZID=Europe/Rome;VALUE=DATE-TIME:20240309T090000
DTEND;TZID=Europe/Rome;VALUE=DATE-TIME:20240309T160000
DTSTAMP;VALUE=DATE-TIME:20260422T191815Z
UID:1849e7fe512f47a1b150d23001827b74@127.0.0.1:8095
CATEGORIES:Istituto Scienze Neurologiche
CONTACT:Segreteria organizzativa\, 051 5277272 / 71 / 80 / 79\, segrosp@re
 gione.emilia.romagna.it\, https://salute.regione.emilia-romagna.it/agenda/
 regione/malattie-rare-formazione-informazione-ed-ascolto-in-emilia-romagna
CREATED;VALUE=DATE-TIME:20240229T111659Z
DESCRIPTION:Convegno\, XIII edizione - Terza Torre della Regione Emilia-Ro
 magna\, Viale della Fiera 8\, Bologna
LAST-MODIFIED;VALUE=DATE-TIME:20240229T112021Z
LOCATION:Terza Torre della Regione Emilia-Romagna\, Viale della Fiera 8\, 
 Bologna
URL:https://www.ausl.bologna.it/istituto-delle-scienze-neurologiche/appunt
 amenti-dellistituto/archivio/giornata-mondiale-delle-malattie-rare-formazi
 one-informazione-e-ascolto-in-emillia-romagna
END:VEVENT
BEGIN:VTIMEZONE
TZID:Europe/Rome
X-LIC-LOCATION:Europe/Rome
BEGIN:STANDARD
DTSTART;VALUE=DATE-TIME:20231029T020000
TZNAME:CET
TZOFFSETFROM:+0200
TZOFFSETTO:+0100
END:STANDARD
END:VTIMEZONE
END:VCALENDAR
