BEGIN:VCALENDAR
VERSION:2.0
PRODID:-//Plone.org//NONSGML plone.app.event//EN
X-WR-TIMEZONE:Europe/Rome
BEGIN:VEVENT
SUMMARY:Giornata delle Malattie Neuromuscolari (GMN)
DTSTART;TZID=Europe/Rome;VALUE=DATE-TIME:20240413T083000
DTEND;TZID=Europe/Rome;VALUE=DATE-TIME:20240413T150000
DTSTAMP;VALUE=DATE-TIME:20260422T191810Z
UID:4fab4e566ac54280948d510675b2bf06@127.0.0.1:8095
ATTENDEE;CN="Prof. Rocco Liguori, Clinica Neurologica IRCCS ISNB";ROLE=REQ
 -PARTICIPANT:Prof. Rocco Liguori, Clinica Neurologica IRCCS ISNB
ATTENDEE;CN="Prof. Antonella Pini, Neuropsichiatria dell’Età Pediatrica
  IRCCS ISNB";ROLE=REQ-PARTICIPANT:Prof. Antonella Pini, Neuropsichiatria d
 ell’Età Pediatrica IRCCS ISNB
CATEGORIES:Istituto Scienze Neurologiche
CONTACT:https://www.giornatamalattieneuromuscolari.it/bologna-2024
CREATED;VALUE=DATE-TIME:20240308T132628Z
DESCRIPTION:Convegno - Sala Farnese del Comune di Bologna\, Piazza Maggior
 e 6\, Bologna
LAST-MODIFIED;VALUE=DATE-TIME:20240325T235457Z
LOCATION:Sala Farnese\, Comune di Bologna - Piazza Maggiore 6\, Bologna 
 ​
URL:https://www.ausl.bologna.it/istituto-delle-scienze-neurologiche/appunt
 amenti-dellistituto/archivio/giornata-delle-malattie-neuromuscolari-gmn
END:VEVENT
BEGIN:VTIMEZONE
TZID:Europe/Rome
X-LIC-LOCATION:Europe/Rome
BEGIN:DAYLIGHT
DTSTART;VALUE=DATE-TIME:20240331T030000
TZNAME:CEST
TZOFFSETFROM:+0100
TZOFFSETTO:+0200
END:DAYLIGHT
END:VTIMEZONE
END:VCALENDAR
