BEGIN:VCALENDAR
VERSION:2.0
PRODID:-//Plone.org//NONSGML plone.app.event//EN
X-WR-TIMEZONE:Europe/Rome
BEGIN:VEVENT
SUMMARY:Fluid and PET imaging biomarkers for Alzheimer’s and Parkinson
 ’s diseases
DTSTART;TZID=Europe/Rome;VALUE=DATE-TIME:20230927T140000
DTEND;TZID=Europe/Rome;VALUE=DATE-TIME:20230927T160000
DTSTAMP;VALUE=DATE-TIME:20260422T191815Z
UID:654fa35c1cb2494ebf6b4f0c085801bf@127.0.0.1:8095
CATEGORIES:Istituto Scienze Neurologiche
CREATED;VALUE=DATE-TIME:20230912T123500Z
DESCRIPTION:Seminario IRCCS - ROSSO
LAST-MODIFIED;VALUE=DATE-TIME:20231003T090326Z
URL:https://www.ausl.bologna.it/istituto-delle-scienze-neurologiche/appunt
 amenti-dellistituto/archivio/fluid-and-pet-imaging-biomarkers-for-alzheime
 r2019s-and-parkinson2019s-diseases
END:VEVENT
BEGIN:VTIMEZONE
TZID:Europe/Rome
X-LIC-LOCATION:Europe/Rome
BEGIN:DAYLIGHT
DTSTART;VALUE=DATE-TIME:20230326T030000
TZNAME:CEST
TZOFFSETFROM:+0100
TZOFFSETTO:+0200
END:DAYLIGHT
END:VTIMEZONE
END:VCALENDAR
