BEGIN:VCALENDAR
VERSION:2.0
PRODID:-//Plone.org//NONSGML plone.app.event//EN
X-WR-TIMEZONE:Europe/Rome
BEGIN:VEVENT
SUMMARY:Expert opinion meeting on the use of skin biopsy in suspected synu
 cleopathies
DTSTART;VALUE=DATE:20241115
DTEND;VALUE=DATE:20241117
DTSTAMP;VALUE=DATE-TIME:20260422T191815Z
UID:5e23063e938f4059ab7914182525eb8a@127.0.0.1:8095
ATTENDEE;CN="Rocco Liguori, Vincenzo Donadio, Chris Gibbons, Roy Freeman";
 ROLE=REQ-PARTICIPANT:Rocco Liguori, Vincenzo Donadio, Chris Gibbons, Roy F
 reeman
CATEGORIES:Istituto Scienze Neurologiche
CONTACT:Symposium\, 051 6448110\, http://www.symposium-eventi.it
CREATED;VALUE=DATE-TIME:20241106T133718Z
DESCRIPTION:Convegno - Biblioteca storica\, Padiglione Ingresso\, II piano
 \, Ospedale Bellaria\, Via Altura 3\, Bologna
LAST-MODIFIED;VALUE=DATE-TIME:20260316T143846Z
LOCATION:Biblioteca storica\, Padiglione Ingresso\, II piano\, Ospedale Be
 llaria\, Via Altura 3\, Bologna
URL:https://www.ausl.bologna.it/istituto-delle-scienze-neurologiche/appunt
 amenti-dellistituto/archivio/expert-opinion-meeting-on-the-use-of-skin-bio
 psy-in-suspected-synucleopathies
END:VEVENT
END:VCALENDAR
