BEGIN:VCALENDAR
VERSION:2.0
PRODID:-//Plone.org//NONSGML plone.app.event//EN
X-WR-TIMEZONE:Europe/Rome
BEGIN:VEVENT
SUMMARY:XXV World Congress of Neurology
DTSTART;VALUE=DATE:20211003
DTEND;VALUE=DATE:20211004
DTSTAMP;VALUE=DATE-TIME:20260422T223858Z
UID:7ca351251c2b40019aa54179a6cdad08@127.0.0.1:8095
CREATED;VALUE=DATE-TIME:20210524T105456Z
DESCRIPTION:Virtual Congress
LAST-MODIFIED;VALUE=DATE-TIME:20221129T151635Z
LOCATION:online
URL:https://www.ausl.bologna.it/istituto-delle-scienze-neurologiche/appunt
 amenti-dellistituto/archivio/eventi-passati/xxv-world-congress-of-neurolog
 y
END:VEVENT
END:VCALENDAR
