BEGIN:VCALENDAR
VERSION:2.0
PRODID:-//Plone.org//NONSGML plone.app.event//EN
X-WR-TIMEZONE:Europe/Rome
BEGIN:VEVENT
SUMMARY:XX Congresso Nazionale S.I.R.N. - La Neuroriabilitazione ai tempi 
 del Covid
DTSTART;VALUE=DATE:20210923
DTEND;VALUE=DATE:20210924
DTSTAMP;VALUE=DATE-TIME:20260422T224042Z
UID:f90ee858edad421c889c3c5e2e7e7349@127.0.0.1:8095
CREATED;VALUE=DATE-TIME:20210524T112823Z
DESCRIPTION:Congresso in presenza e online
LAST-MODIFIED;VALUE=DATE-TIME:20221129T151635Z
LOCATION:in presenza e online
URL:https://www.ausl.bologna.it/istituto-delle-scienze-neurologiche/appunt
 amenti-dellistituto/archivio/eventi-passati/xx-congresso-nazionale-s-i-r-n
 -la-neuroriabilitazione-ai-tempi-del-covid
END:VEVENT
END:VCALENDAR
