BEGIN:VCALENDAR
VERSION:2.0
PRODID:-//Plone.org//NONSGML plone.app.event//EN
X-WR-TIMEZONE:Europe/Rome
BEGIN:VEVENT
SUMMARY:XVI Corso di Neuroradiologia Interventistica
DTSTART;VALUE=DATE:20211112
DTEND;VALUE=DATE:20211113
DTSTAMP;VALUE=DATE-TIME:20260422T223337Z
UID:a103805c10204937a71ab8985dbac570@127.0.0.1:8095
CONTACT:Segreteria Organizzativa\, 089-253170\, info@leaderonline.it\, htt
 ps://www.leaderonline.it/corsoneuroradintervsalerno2020/
CREATED;VALUE=DATE-TIME:20211102T115939Z
DESCRIPTION:Le nuove frontiere nel trattamento dell’ictus cerebrale -
LAST-MODIFIED;VALUE=DATE-TIME:20221129T151631Z
LOCATION:Lloyd’s Baia Hotel - Salerno
URL:https://www.ausl.bologna.it/istituto-delle-scienze-neurologiche/appunt
 amenti-dellistituto/archivio/eventi-passati/xvi-corso-di-neuroradiologia-i
 nterventistica
END:VEVENT
END:VCALENDAR
