BEGIN:VCALENDAR
VERSION:2.0
PRODID:-//Plone.org//NONSGML plone.app.event//EN
X-WR-TIMEZONE:Europe/Rome
BEGIN:VEVENT
SUMMARY:XII Congresso AIRMM
DTSTART;VALUE=DATE:20201210
DTEND;VALUE=DATE:20201211
DTSTAMP;VALUE=DATE-TIME:20260423T021807Z
UID:3a1bb33fbda649eb8c47d737657bc2c7@127.0.0.1:8095
CREATED;VALUE=DATE-TIME:20201209T100206Z
DESCRIPTION:Congresso onlin dell'Associazione Italiana Risonanza Magnetica
  in Medicina
LAST-MODIFIED;VALUE=DATE-TIME:20221129T151638Z
URL:https://www.ausl.bologna.it/istituto-delle-scienze-neurologiche/appunt
 amenti-dellistituto/archivio/eventi-passati/xii-congresso-airmm
END:VEVENT
END:VCALENDAR
