BEGIN:VCALENDAR
VERSION:2.0
PRODID:-//Plone.org//NONSGML plone.app.event//EN
X-WR-TIMEZONE:Europe/Rome
BEGIN:VEVENT
SUMMARY:Webinar di  Neurotraumatologia
DTSTART;VALUE=DATE:20211214
DTEND;VALUE=DATE:20211215
DTSTAMP;VALUE=DATE-TIME:20260422T223452Z
UID:6ea1b808aeb541598f00163e28406a14@127.0.0.1:8095
CONTACT:https://a2i0g8.mailupclient.com/f/rnl.aspx/?fek=ww3:0ln=t3-e.=x1_x
 6f0.d=&2mc7&x=pv&92gh.f9&x=pp&r3jig76me773af5.&d=w_xNCLM
CREATED;VALUE=DATE-TIME:20211214T091039Z
DESCRIPTION:organizzato da SINch
LAST-MODIFIED;VALUE=DATE-TIME:20221129T151629Z
URL:https://www.ausl.bologna.it/istituto-delle-scienze-neurologiche/appunt
 amenti-dellistituto/archivio/eventi-passati/webinar-di-neurotraumatologia
END:VEVENT
END:VCALENDAR
