BEGIN:VCALENDAR
VERSION:2.0
PRODID:-//Plone.org//NONSGML plone.app.event//EN
X-WR-TIMEZONE:Europe/Rome
BEGIN:VEVENT
SUMMARY:VIII Seminario multidisciplinare sulla narcolessia
DTSTART;VALUE=DATE:20211120
DTEND;VALUE=DATE:20211121
DTSTAMP;VALUE=DATE-TIME:20260422T223534Z
UID:14ab3044f5f645a5a0e60de0d730721b@127.0.0.1:8095
CONTACT:https://www.avenuemedia.eu/event/vii-seminario-sulla-narcolessia/
CREATED;VALUE=DATE-TIME:20211028T111340Z
DESCRIPTION:In presenza
LAST-MODIFIED;VALUE=DATE-TIME:20221129T151631Z
URL:https://www.ausl.bologna.it/istituto-delle-scienze-neurologiche/appunt
 amenti-dellistituto/archivio/eventi-passati/viii-seminario-multidisciplina
 re-sulla-narcolessia
END:VEVENT
END:VCALENDAR
