BEGIN:VCALENDAR
VERSION:2.0
PRODID:-//Plone.org//NONSGML plone.app.event//EN
X-WR-TIMEZONE:Europe/Rome
BEGIN:VEVENT
SUMMARY:The BCI & NeuroTechnology Spring School 2022
DTSTART;VALUE=DATE:20220425
DTEND;VALUE=DATE:20220426
DTSTAMP;VALUE=DATE-TIME:20260422T223453Z
UID:1856c63b28e943338ce1215bb2315a2a@127.0.0.1:8095
RRULE:FREQ=DAILY;UNTIL=20220504T000000
CONTACT:https://us02web.zoom.us/webinar/register/4016194513494/WN_DtJVpNLj
 S-u32di38vV5bA
CREATED;VALUE=DATE-TIME:20220314T100110Z
DESCRIPTION:webinar
LAST-MODIFIED;VALUE=DATE-TIME:20221129T151626Z
URL:https://www.ausl.bologna.it/istituto-delle-scienze-neurologiche/appunt
 amenti-dellistituto/archivio/eventi-passati/the-bci-neurotechnology-spring
 -school-2022
END:VEVENT
END:VCALENDAR
