BEGIN:VCALENDAR
VERSION:2.0
PRODID:-//Plone.org//NONSGML plone.app.event//EN
X-WR-TIMEZONE:Europe/Rome
BEGIN:VEVENT
SUMMARY:Terapia genica nella Neuropatia Ottica Ereditaria di Leber
DTSTART;VALUE=DATE:20210706
DTEND;VALUE=DATE:20210707
DTSTAMP;VALUE=DATE-TIME:20260422T223858Z
UID:338f0f57f10141a08f57ea462c6da3d6@127.0.0.1:8095
CREATED;VALUE=DATE-TIME:20210524T121948Z
DESCRIPTION:Seminario IRCCS - Rosso
LAST-MODIFIED;VALUE=DATE-TIME:20221129T151635Z
URL:https://www.ausl.bologna.it/istituto-delle-scienze-neurologiche/appunt
 amenti-dellistituto/archivio/eventi-passati/terapia-genica-nella-neuropati
 a-ottica-ereditaria-di-leber
END:VEVENT
END:VCALENDAR
