BEGIN:VCALENDAR
VERSION:2.0
PRODID:-//Plone.org//NONSGML plone.app.event//EN
X-WR-TIMEZONE:Europe/Rome
BEGIN:VEVENT
SUMMARY:TeleRiabilitazione domiciliare per i pazienti cronici: i risultati
  del progetto SIDERA^B
DTSTART;VALUE=DATE:20210519
DTEND;VALUE=DATE:20210520
DTSTAMP;VALUE=DATE-TIME:20260422T224023Z
UID:f2cb00fe872746ebad79318d3d035d3b@127.0.0.1:8095
CONTACT:http://www.liuc.it/la-ricerca-in-liuc/la-ricerca/progetti/siderab-
 sistema-integrato-domiciliare-e-riabilitazione-assistita-al-benessere/
CREATED;VALUE=DATE-TIME:20210512T152112Z
DESCRIPTION:Organizzato da università Carlo Cattaneo - LIUC
LAST-MODIFIED;VALUE=DATE-TIME:20221129T151636Z
LOCATION:webinar
URL:https://www.ausl.bologna.it/istituto-delle-scienze-neurologiche/appunt
 amenti-dellistituto/archivio/eventi-passati/teleriabilitazione-domiciliare
 -per-i-pazienti-cronici-i-risultati-del-progetto-sidera-b
END:VEVENT
END:VCALENDAR
