BEGIN:VCALENDAR
VERSION:2.0
PRODID:-//Plone.org//NONSGML plone.app.event//EN
X-WR-TIMEZONE:Europe/Rome
BEGIN:VEVENT
SUMMARY:Studio multimediale TC nello stroke ischemico
DTSTART;VALUE=DATE:20210525
DTEND;VALUE=DATE:20210526
DTSTAMP;VALUE=DATE-TIME:20260422T223337Z
UID:274e272b445145c0aa42e0f2a340976c@127.0.0.1:8095
CREATED;VALUE=DATE-TIME:20210513T140540Z
DESCRIPTION:Seminari IRCCS - Blu
LAST-MODIFIED;VALUE=DATE-TIME:20221129T151635Z
LOCATION:webinar
URL:https://www.ausl.bologna.it/istituto-delle-scienze-neurologiche/appunt
 amenti-dellistituto/archivio/eventi-passati/studio-multimediale-tc-anello-
 stroke-ischemico
END:VEVENT
END:VCALENDAR
