BEGIN:VCALENDAR
VERSION:2.0
PRODID:-//Plone.org//NONSGML plone.app.event//EN
X-WR-TIMEZONE:Europe/Rome
BEGIN:VEVENT
SUMMARY:Studio clinico-anatomo-funzionale della corteccia del cingolo
DTSTART;VALUE=DATE:20211221
DTEND;VALUE=DATE:20211222
DTSTAMP;VALUE=DATE-TIME:20260422T223623Z
UID:9aac796bc2d24705ac70d87e312ae7c8@127.0.0.1:8095
CREATED;VALUE=DATE-TIME:20211123T090507Z
DESCRIPTION:Seminari Scuole - IRCCS
LAST-MODIFIED;VALUE=DATE-TIME:20221129T151630Z
URL:https://www.ausl.bologna.it/istituto-delle-scienze-neurologiche/appunt
 amenti-dellistituto/archivio/eventi-passati/studio-clinico-anatomo-funzion
 ale-del-giro-del-cingolo
END:VEVENT
END:VCALENDAR
