BEGIN:VCALENDAR
VERSION:2.0
PRODID:-//Plone.org//NONSGML plone.app.event//EN
X-WR-TIMEZONE:Europe/Rome
BEGIN:VEVENT
SUMMARY:Stress ossidativo e neuroinfiammazione nelle patologie neurologich
 e e nei disturbi del neurosviluppo
DTSTART;VALUE=DATE:20210928
DTEND;VALUE=DATE:20210929
DTSTAMP;VALUE=DATE-TIME:20260422T224042Z
UID:d04b096c514341fdad8816be4febfffd@127.0.0.1:8095
CREATED;VALUE=DATE-TIME:20210908T151450Z
LAST-MODIFIED;VALUE=DATE-TIME:20221129T151633Z
URL:https://www.ausl.bologna.it/istituto-delle-scienze-neurologiche/appunt
 amenti-dellistituto/archivio/eventi-passati/stress-ossidativo-e-neuroinfia
 mmazione-nelle-patologie-neurologiche-e-nei-disturbi-del-neurosviluppo
END:VEVENT
END:VCALENDAR
