BEGIN:VCALENDAR
VERSION:2.0
PRODID:-//Plone.org//NONSGML plone.app.event//EN
X-WR-TIMEZONE:Europe/Rome
BEGIN:VEVENT
SUMMARY:Strategie terapeutiche della Malattia di Parkinson in fase avanzat
 a
DTSTART;VALUE=DATE:20210525
DTEND;VALUE=DATE:20210526
DTSTAMP;VALUE=DATE-TIME:20260423T022107Z
UID:97c0264ca30b4374adb97cc413c10b9c@127.0.0.1:8095
ATTENDEE;CN="Leonardo Lopiano, AOU Città della Salute e della Scienza di 
 Torino";ROLE=REQ-PARTICIPANT:Leonardo Lopiano, AOU Città della Salute e d
 ella Scienza di Torino
CREATED;VALUE=DATE-TIME:20210510T111729Z
DESCRIPTION:Seminari IRCCS - Blu
LAST-MODIFIED;VALUE=DATE-TIME:20221129T151636Z
URL:https://www.ausl.bologna.it/istituto-delle-scienze-neurologiche/appunt
 amenti-dellistituto/archivio/eventi-passati/strategie-terapeutiche-della-m
 alattia-di-parkinson-in-fase-avanzata
END:VEVENT
END:VCALENDAR
