BEGIN:VCALENDAR
VERSION:2.0
PRODID:-//Plone.org//NONSGML plone.app.event//EN
X-WR-TIMEZONE:Europe/Rome
BEGIN:VEVENT
SUMMARY:Stereo EEG nella Chirurgia dell'epilessia
DTSTART;VALUE=DATE:20220405
DTEND;VALUE=DATE:20220406
DTSTAMP;VALUE=DATE-TIME:20260422T223532Z
UID:9e239a79923c4b119947db5403267ff5@127.0.0.1:8095
CREATED;VALUE=DATE-TIME:20220311T153218Z
DESCRIPTION:Seminari IRCCS - GIALLO
LAST-MODIFIED;VALUE=DATE-TIME:20221129T151627Z
URL:https://www.ausl.bologna.it/istituto-delle-scienze-neurologiche/appunt
 amenti-dellistituto/archivio/eventi-passati/stereo-eeg-nella-chirurgia-del
 lepilessia
END:VEVENT
END:VCALENDAR
