BEGIN:VCALENDAR
VERSION:2.0
PRODID:-//Plone.org//NONSGML plone.app.event//EN
X-WR-TIMEZONE:Europe/Rome
BEGIN:VEVENT
SUMMARY:Spettro autistico e shift di paradigma: implicazioni per la ricerc
 a e la pratica clinica
DTSTART;VALUE=DATE:20211026
DTEND;VALUE=DATE:20211027
DTSTAMP;VALUE=DATE-TIME:20260422T223337Z
UID:09450b2c364443ab8693e5396f50f95d@127.0.0.1:8095
CREATED;VALUE=DATE-TIME:20210917T152545Z
DESCRIPTION:Seminari IRCCS - Blu
LAST-MODIFIED;VALUE=DATE-TIME:20221129T151632Z
URL:https://www.ausl.bologna.it/istituto-delle-scienze-neurologiche/appunt
 amenti-dellistituto/archivio/eventi-passati/spettro-autistico-e-shift-di-p
 aradigma-implicazioni-per-la-ricerca-e-la-pratica-clinica
END:VEVENT
END:VCALENDAR
