BEGIN:VCALENDAR
VERSION:2.0
PRODID:-//Plone.org//NONSGML plone.app.event//EN
X-WR-TIMEZONE:Europe/Rome
BEGIN:VEVENT
SUMMARY:Sclerosi Multipla e cura di sé. Parliamo di attività fisica
DTSTART;VALUE=DATE:20220708
DTEND;VALUE=DATE:20220709
DTSTAMP;VALUE=DATE-TIME:20260422T205833Z
UID:745b6934d6de4b0e8a37a170a87c31d0@127.0.0.1:8095
CREATED;VALUE=DATE-TIME:20220607T113931Z
DESCRIPTION:A cura di Loredana Sabattini\, fisiatra.  Incontro online aper
 to a tutti.
LAST-MODIFIED;VALUE=DATE-TIME:20221129T151622Z
URL:https://www.ausl.bologna.it/istituto-delle-scienze-neurologiche/appunt
 amenti-dellistituto/archivio/eventi-passati/sclerosi-multipla-e-cura-di-se
 -parliamo-di-attivita-fisica
END:VEVENT
END:VCALENDAR
